BEGIN:VCALENDAR
VERSION:2.0
PRODID:icalendar-ruby
CALSCALE:GREGORIAN
METHOD:PUBLISH
BEGIN:VEVENT
DTSTAMP:20260421T095911Z
UID:5-499346@miamichurchofchrist.org
DTSTART:20260628T170000Z
DTEND:20260628T180000Z
CLASS:PUBLIC
CREATED:20260420T175830
DESCRIPTION:Sunday Worship
LAST-MODIFIED:20260420T175830
LOCATION:
SUMMARY:Sunday Worship
URL;VALUE=URI:https://www.miamichurchofchrist.org/events/sunday-worship/202
 6-06-28
END:VEVENT
END:VCALENDAR
