BEGIN:VCALENDAR
VERSION:2.0
PRODID:icalendar-ruby
CALSCALE:GREGORIAN
METHOD:PUBLISH
BEGIN:VEVENT
DTSTAMP:20260421T111355Z
UID:5-499347@miamichurchofchrist.org
DTSTART:20260705T170000Z
DTEND:20260705T180000Z
CLASS:PUBLIC
CREATED:20260420T175830
DESCRIPTION:Sunday Worship
LAST-MODIFIED:20260420T175830
LOCATION:
SUMMARY:Sunday Worship
URL;VALUE=URI:https://www.miamichurchofchrist.org/events/sunday-worship/202
 6-07-05
END:VEVENT
END:VCALENDAR
