BEGIN:VCALENDAR
VERSION:2.0
PRODID:icalendar-ruby
CALSCALE:GREGORIAN
METHOD:PUBLISH
BEGIN:VEVENT
DTSTAMP:20260421T141243Z
UID:5-499724@miamichurchofchrist.org
DTSTART:20260719T170000Z
DTEND:20260719T180000Z
CLASS:PUBLIC
CREATED:20260421T050514
DESCRIPTION:Sunday Worship
LAST-MODIFIED:20260421T050514
LOCATION:
SUMMARY:Sunday Worship
URL;VALUE=URI:https://www.miamichurchofchrist.org/events/sunday-worship/202
 6-07-19
END:VEVENT
END:VCALENDAR
