BEGIN:VCALENDAR
VERSION:2.0
PRODID:icalendar-ruby
CALSCALE:GREGORIAN
METHOD:PUBLISH
BEGIN:VEVENT
DTSTAMP:20260421T154503Z
UID:5-500100@miamichurchofchrist.org
DTSTART:20260726T170000Z
DTEND:20260726T180000Z
CLASS:PUBLIC
CREATED:20260421T074045
DESCRIPTION:Sunday Worship
LAST-MODIFIED:20260421T074045
LOCATION:
SUMMARY:Sunday Worship
URL;VALUE=URI:https://www.miamichurchofchrist.org/events/sunday-worship/202
 6-07-26
END:VEVENT
END:VCALENDAR
