BEGIN:VCALENDAR
VERSION:2.0
PRODID:icalendar-ruby
CALSCALE:GREGORIAN
METHOD:PUBLISH
BEGIN:VEVENT
DTSTAMP:20260422T063813Z
UID:5-501610@miamichurchofchrist.org
DTSTART:20261004T170000Z
DTEND:20261004T180000Z
CLASS:PUBLIC
CREATED:20260421T181335
DESCRIPTION:Sunday Worship
LAST-MODIFIED:20260421T181335
LOCATION:
SUMMARY:Sunday Worship
URL;VALUE=URI:https://www.miamichurchofchrist.org/events/sunday-worship/202
 6-10-04
END:VEVENT
END:VCALENDAR
