BEGIN:VCALENDAR
VERSION:2.0
PRODID:icalendar-ruby
CALSCALE:GREGORIAN
METHOD:PUBLISH
BEGIN:VEVENT
DTSTAMP:20260422T074805Z
UID:5-501611@miamichurchofchrist.org
DTSTART:20261011T170000Z
DTEND:20261011T180000Z
CLASS:PUBLIC
CREATED:20260421T181335
DESCRIPTION:Sunday Worship
LAST-MODIFIED:20260421T181335
LOCATION:
SUMMARY:Sunday Worship
URL;VALUE=URI:https://www.miamichurchofchrist.org/events/sunday-worship/202
 6-10-11
END:VEVENT
END:VCALENDAR
