BEGIN:VCALENDAR
VERSION:2.0
PRODID:icalendar-ruby
CALSCALE:GREGORIAN
METHOD:PUBLISH
BEGIN:VEVENT
DTSTAMP:20260421T083354Z
UID:7-499460@miamichurchofchrist.org
DTSTART:20260628T180000Z
DTEND:20260628T190000Z
CLASS:PUBLIC
CREATED:20260420T175830
DESCRIPTION:
LAST-MODIFIED:20260420T175830
LOCATION:
SUMMARY:Worship
URL;VALUE=URI:https://www.miamichurchofchrist.org/events/worship/2026-06-28
ATTACH;FILENAME=building.jpg;FMTTYPE=image/jpeg:https://dq5pwpg1q8ru0.cloud
 front.net/2025/05/23/16/36/45/2ab348bc-b3b8-4b27-ac87-6bca7f8a7a9f/buildin
 g.jpg
END:VEVENT
END:VCALENDAR
