BEGIN:VCALENDAR
VERSION:2.0
PRODID:icalendar-ruby
CALSCALE:GREGORIAN
METHOD:PUBLISH
BEGIN:VEVENT
DTSTAMP:20260421T212732Z
UID:7-500969@miamichurchofchrist.org
DTSTART:20260830T180000Z
DTEND:20260830T190000Z
CLASS:PUBLIC
CREATED:20260421T125636
DESCRIPTION:
LAST-MODIFIED:20260421T125636
LOCATION:
SUMMARY:Worship
URL;VALUE=URI:https://www.miamichurchofchrist.org/events/worship/2026-08-30
ATTACH;FILENAME=building.jpg;FMTTYPE=image/jpeg:https://dq5pwpg1q8ru0.cloud
 front.net/2025/05/23/16/36/45/2ab348bc-b3b8-4b27-ac87-6bca7f8a7a9f/buildin
 g.jpg
END:VEVENT
END:VCALENDAR
